BEGIN:VCALENDAR
VERSION:2.0
PRODID:-//Temple Normanton Parish Council//Meeting Calendar//EN
CALSCALE:GREGORIAN
METHOD:PUBLISH
BEGIN:VEVENT
UID:70467-20250303@templenormantonparishcouncil.gov.uk
DTSTAMP:20260422T083602Z
DTSTART;VALUE=DATE:20250303
DTEND;VALUE=DATE:20250304
SUMMARY:Full Council Meeting &#8211\\; 3 March 2025
DESCRIPTION:Full Council Meeting\nView details: https://templenormantonparishcouncil.gov.uk/meetings/full-council-meeting-3-march-2025/
URL:https://templenormantonparishcouncil.gov.uk/meetings/full-council-meeting-3-march-2025/
END:VEVENT
END:VCALENDAR
