BEGIN:VCALENDAR
VERSION:2.0
PRODID:-//Temple Normanton Parish Council//Meeting Calendar//EN
CALSCALE:GREGORIAN
METHOD:PUBLISH
BEGIN:VEVENT
UID:70470-20250407@templenormantonparishcouncil.gov.uk
DTSTAMP:20260422T083427Z
DTSTART;VALUE=DATE:20250407
DTEND;VALUE=DATE:20250408
SUMMARY:Full Council Meeting &#8211\\; 7 April 2025
DESCRIPTION:Full Council Meeting\nView details: https://templenormantonparishcouncil.gov.uk/meetings/full-council-meeting-7-april-2025/
URL:https://templenormantonparishcouncil.gov.uk/meetings/full-council-meeting-7-april-2025/
END:VEVENT
END:VCALENDAR
