BEGIN:VCALENDAR
VERSION:2.0
PRODID:-//Temple Normanton Parish Council//Meeting Calendar//EN
CALSCALE:GREGORIAN
METHOD:PUBLISH
BEGIN:VEVENT
UID:70476-20250428@templenormantonparishcouncil.gov.uk
DTSTAMP:20260420T034045Z
DTSTART;VALUE=DATE:20250428
DTEND;VALUE=DATE:20250429
SUMMARY:Annual Parish Meeting &#8211\\; 28 April 2025
DESCRIPTION:Annual Parish Meeting\nView details: https://templenormantonparishcouncil.gov.uk/meetings/annual-parish-meeting-28-april-2025/
URL:https://templenormantonparishcouncil.gov.uk/meetings/annual-parish-meeting-28-april-2025/
END:VEVENT
END:VCALENDAR
