BEGIN:VCALENDAR
VERSION:2.0
PRODID:-//Temple Normanton Parish Council//Meeting Calendar//EN
CALSCALE:GREGORIAN
METHOD:PUBLISH
BEGIN:VEVENT
UID:70478-20250609@templenormantonparishcouncil.gov.uk
DTSTAMP:20260422T084550Z
DTSTART;VALUE=DATE:20250609
DTEND;VALUE=DATE:20250610
SUMMARY:Full Council Meeting &#8211\\; 9 June 2025
DESCRIPTION:Full Council Meeting\nView details: https://templenormantonparishcouncil.gov.uk/meetings/full-council-meeting-9-june-2025/
URL:https://templenormantonparishcouncil.gov.uk/meetings/full-council-meeting-9-june-2025/
END:VEVENT
END:VCALENDAR
