BEGIN:VCALENDAR
VERSION:2.0
PRODID:-//Temple Normanton Parish Council//Meeting Calendar//EN
CALSCALE:GREGORIAN
METHOD:PUBLISH
BEGIN:VEVENT
UID:70482-20250804@templenormantonparishcouncil.gov.uk
DTSTAMP:20260422T083459Z
DTSTART;VALUE=DATE:20250804
DTEND;VALUE=DATE:20250805
SUMMARY:Full Council Meeting &#8211\\; 4 August 2025
DESCRIPTION:Full Council Meeting\nView details: https://templenormantonparishcouncil.gov.uk/meetings/full-council-meeting-4-august-2025/
URL:https://templenormantonparishcouncil.gov.uk/meetings/full-council-meeting-4-august-2025/
END:VEVENT
END:VCALENDAR
