BEGIN:VCALENDAR
VERSION:2.0
PRODID:-//Temple Normanton Parish Council//Meeting Calendar//EN
CALSCALE:GREGORIAN
METHOD:PUBLISH
BEGIN:VEVENT
UID:70543-20251006@templenormantonparishcouncil.gov.uk
DTSTAMP:20260420T075105Z
DTSTART;VALUE=DATE:20251006
DTEND;VALUE=DATE:20251007
SUMMARY:Full Council Meeting &#8211\\; 6 October 2025
DESCRIPTION:Full Council Meeting\nView details: https://templenormantonparishcouncil.gov.uk/meetings/full-council-meeting/
URL:https://templenormantonparishcouncil.gov.uk/meetings/full-council-meeting/
END:VEVENT
END:VCALENDAR
