BEGIN:VCALENDAR
VERSION:2.0
PRODID:-//Temple Normanton Parish Council//Meeting Calendar//EN
CALSCALE:GREGORIAN
METHOD:PUBLISH
BEGIN:VEVENT
UID:70544-20251103@templenormantonparishcouncil.gov.uk
DTSTAMP:20260420T074358Z
DTSTART;VALUE=DATE:20251103
DTEND;VALUE=DATE:20251104
SUMMARY:Full Council Meeting &#8211\\; 3 November 2025
DESCRIPTION:Full Council Meeting\nView details: https://templenormantonparishcouncil.gov.uk/meetings/full-council-meeting-2/
URL:https://templenormantonparishcouncil.gov.uk/meetings/full-council-meeting-2/
END:VEVENT
END:VCALENDAR
