BEGIN:VCALENDAR
VERSION:2.0
PRODID:-//Temple Normanton Parish Council//Meeting Calendar//EN
CALSCALE:GREGORIAN
METHOD:PUBLISH
BEGIN:VEVENT
UID:70546-20250707@templenormantonparishcouncil.gov.uk
DTSTAMP:20260422T083914Z
DTSTART;VALUE=DATE:20250707
DTEND;VALUE=DATE:20250708
SUMMARY:Full Council Meeting &#8211\\; 7 July 2025
DESCRIPTION:Full Council Meeting\nView details: https://templenormantonparishcouncil.gov.uk/meetings/full-council-meeting-7-july-2025/
URL:https://templenormantonparishcouncil.gov.uk/meetings/full-council-meeting-7-july-2025/
END:VEVENT
END:VCALENDAR
