BEGIN:VCALENDAR
VERSION:2.0
PRODID:-//Temple Normanton Parish Council//Meeting Calendar//EN
CALSCALE:GREGORIAN
METHOD:PUBLISH
BEGIN:VEVENT
UID:70605-20260413@templenormantonparishcouncil.gov.uk
DTSTAMP:20260420T034453Z
DTSTART;VALUE=DATE:20260413
DTEND;VALUE=DATE:20260414
SUMMARY:Full Council meeting 13th April 2026
DESCRIPTION:Full Council Meeting\nView details: https://templenormantonparishcouncil.gov.uk/meetings/full-council-meeting-13th-april-2026/
URL:https://templenormantonparishcouncil.gov.uk/meetings/full-council-meeting-13th-april-2026/
END:VEVENT
END:VCALENDAR
