BEGIN:VCALENDAR
VERSION:2.0
PRODID:-//Temple Normanton Parish Council//Meeting Calendar//EN
CALSCALE:GREGORIAN
METHOD:PUBLISH
BEGIN:VEVENT
UID:70606-20260511@templenormantonparishcouncil.gov.uk
DTSTAMP:20260420T021417Z
DTSTART;VALUE=DATE:20260511
DTEND;VALUE=DATE:20260512
SUMMARY:Annual Parish Council Meeting 11th May 2026
DESCRIPTION:Full Council Meeting\nView details: https://templenormantonparishcouncil.gov.uk/meetings/annual-parish-council-meeting-11th-may-2026/
URL:https://templenormantonparishcouncil.gov.uk/meetings/annual-parish-council-meeting-11th-may-2026/
END:VEVENT
END:VCALENDAR
